BEGIN:VCALENDAR
VERSION:2.0
PRODID:spatie/icalendar-generator
DESCRIPTION:Veranstaltungen von Klairs
X-WR-CALDESC:Veranstaltungen von Klairs
REFRESH-INTERVAL;VALUE=DURATION:PT1440M
X-PUBLISHED-TTL:PT1440M
BEGIN:VTIMEZONE
TZID:Etc/GMT-1
BEGIN:STANDARD
DTSTART:20220920T080000Z
TZOFFSETFROM:+0100
TZOFFSETTO:+0100
END:STANDARD
END:VTIMEZONE
BEGIN:VTIMEZONE
TZID:UTC
BEGIN:STANDARD
DTSTART:20250727T111923Z
TZOFFSETFROM:+0000
TZOFFSETTO:+0000
END:STANDARD
END:VTIMEZONE
BEGIN:VEVENT
UID:9185-749
DTSTAMP:20260423T111923Z
SUMMARY:Jubiläumsanlass SCN
LOCATION:Klairs Saal mit Küche   Nänikon
ORGANIZER;CN=Sportclub Naenikon:MAILTO:praesident@scn.ch
DTSTART;TZID=Etc/GMT-1:20230617T080000
DTEND;TZID=Etc/GMT-1:20230617T180000
X-ALT-DESC;FMTTYPE=TEXT/HTML:
CATEGORIES:Allgemein
URL;VALUE=URI:https://klairs.ch/mc-events/jubilaeumsanlass-scn-2/
METHOD:PUBLISH
END:VEVENT
END:VCALENDAR