BEGIN:VCALENDAR
VERSION:2.0
PRODID:spatie/icalendar-generator
DESCRIPTION:Veranstaltungen von Klairs
X-WR-CALDESC:Veranstaltungen von Klairs
REFRESH-INTERVAL;VALUE=DURATION:PT1440M
X-PUBLISHED-TTL:PT1440M
BEGIN:VTIMEZONE
TZID:Etc/GMT-1
BEGIN:STANDARD
DTSTART:20210622T140000Z
TZOFFSETFROM:+0100
TZOFFSETTO:+0100
END:STANDARD
END:VTIMEZONE
BEGIN:VTIMEZONE
TZID:UTC
BEGIN:STANDARD
DTSTART:20250728T194911Z
TZOFFSETFROM:+0000
TZOFFSETTO:+0000
END:STANDARD
END:VTIMEZONE
BEGIN:VEVENT
UID:4901-565
DTSTAMP:20260424T194911Z
SUMMARY:nänikergottesdienst am samstagabend
LOCATION:Klairs Saal mit Küche   Nänikon
ORGANIZER;CN=Reformierte Kirche Uster:MAILTO:beatrice.schulte@refuster.ch
DTSTART;TZID=Etc/GMT-1:20220319T140000
DTEND;TZID=Etc/GMT-1:20220319T200000
X-ALT-DESC;FMTTYPE=TEXT/HTML:
CATEGORIES:Gottesdienst
URL;VALUE=URI:https://klairs.ch/mc-events/naenikergottesdienst-am-samstagab
 end-17/
METHOD:PUBLISH
END:VEVENT
END:VCALENDAR