BEGIN:VCALENDAR
VERSION:2.0
PRODID:spatie/icalendar-generator
DESCRIPTION:Veranstaltungen von Klairs
X-WR-CALDESC:Veranstaltungen von Klairs
REFRESH-INTERVAL;VALUE=DURATION:PT1440M
X-PUBLISHED-TTL:PT1440M
BEGIN:VTIMEZONE
TZID:Etc/GMT-1
BEGIN:STANDARD
DTSTART:20190131T140000Z
TZOFFSETFROM:+0100
TZOFFSETTO:+0100
END:STANDARD
END:VTIMEZONE
BEGIN:VTIMEZONE
TZID:UTC
BEGIN:STANDARD
DTSTART:20250729T125117Z
TZOFFSETFROM:+0000
TZOFFSETTO:+0000
END:STANDARD
END:VTIMEZONE
BEGIN:VEVENT
UID:4433-448
DTSTAMP:20260425T125117Z
SUMMARY:Seniorentreff während Klairs-Kaffee
LOCATION:Klairs Saal Bühlstrasse 16  Nänikon  8606
ORGANIZER;CN=Frauenverein Nänikon-Werrikon:MAILTO:frauenverein@naenikon.ch
DTSTART;TZID=Etc/GMT-1:20191028T140000
DTEND;TZID=Etc/GMT-1:20191028T160000
X-ALT-DESC;FMTTYPE=TEXT/HTML:
CATEGORIES:Allgemein
URL;VALUE=URI:https://klairs.ch/mc-events/seniorentreff-waehrend-klairs-kaf
 fee-17/
METHOD:PUBLISH
END:VEVENT
END:VCALENDAR