BEGIN:VCALENDAR
VERSION:2.0
PRODID:spatie/icalendar-generator
DESCRIPTION:Veranstaltungen von Klairs
X-WR-CALDESC:Veranstaltungen von Klairs
REFRESH-INTERVAL;VALUE=DURATION:PT1440M
X-PUBLISHED-TTL:PT1440M
BEGIN:VTIMEZONE
TZID:Etc/GMT-1
BEGIN:STANDARD
DTSTART:20190616T180000Z
TZOFFSETFROM:+0100
TZOFFSETTO:+0100
END:STANDARD
END:VTIMEZONE
BEGIN:VTIMEZONE
TZID:UTC
BEGIN:STANDARD
DTSTART:20250730T031513Z
TZOFFSETFROM:+0000
TZOFFSETTO:+0000
END:STANDARD
END:VTIMEZONE
BEGIN:VEVENT
UID:4418-440
DTSTAMP:20260426T031513Z
SUMMARY:STWEG Versammlung \"Stationsstr. 55 / Nänikon\"
LOCATION:Klairs Sitzungszimmer   Nänikon
ORGANIZER;CN=Hansruedi Stella:MAILTO:hstella@bluewin.ch
DTSTART;TZID=Etc/GMT-1:20200312T180000
DTEND;TZID=Etc/GMT-1:20200312T213000
X-ALT-DESC;FMTTYPE=TEXT/HTML:<p>Gebucht durch Andreas Stirnat ( Privat )!</
 p>\n
CATEGORIES:Sitzung
URL;VALUE=URI:https://klairs.ch/mc-events/stweg-versammlung-stationsstr-55-
 naenikon/
METHOD:PUBLISH
END:VEVENT
END:VCALENDAR