BEGIN:VCALENDAR
VERSION:2.0
PRODID:spatie/icalendar-generator
DESCRIPTION:Veranstaltungen von Klairs
X-WR-CALDESC:Veranstaltungen von Klairs
REFRESH-INTERVAL;VALUE=DURATION:PT1440M
X-PUBLISHED-TTL:PT1440M
BEGIN:VTIMEZONE
TZID:Etc/GMT-1
BEGIN:STANDARD
DTSTART:20190511T120000Z
TZOFFSETFROM:+0100
TZOFFSETTO:+0100
END:STANDARD
END:VTIMEZONE
BEGIN:VTIMEZONE
TZID:UTC
BEGIN:STANDARD
DTSTART:20250729T154023Z
TZOFFSETFROM:+0000
TZOFFSETTO:+0000
END:STANDARD
END:VTIMEZONE
BEGIN:VEVENT
UID:4103-426
DTSTAMP:20260425T154023Z
SUMMARY:Kath. Unti 2. Klasse
LOCATION:Klairs Sitzungszimmer   Nänikon
ORGANIZER;CN=Pfarrei Johannes XXIII:MAILTO:kathpfarramt@pfarrei-greifensee.
 ch
DTSTART;TZID=Etc/GMT-1:20200205T120000
DTEND;TZID=Etc/GMT-1:20200205T161500
X-ALT-DESC;FMTTYPE=TEXT/HTML:
CATEGORIES:Unti-SZ
URL;VALUE=URI:https://klairs.ch/mc-events/kath-unti-2-klasse-10/
METHOD:PUBLISH
END:VEVENT
END:VCALENDAR