BEGIN:VCALENDAR
VERSION:2.0
PRODID:spatie/icalendar-generator
DESCRIPTION:Veranstaltungen von Klairs
X-WR-CALDESC:Veranstaltungen von Klairs
REFRESH-INTERVAL;VALUE=DURATION:PT1440M
X-PUBLISHED-TTL:PT1440M
BEGIN:VTIMEZONE
TZID:Etc/GMT-1
BEGIN:STANDARD
DTSTART:20180502T173000Z
TZOFFSETFROM:+0100
TZOFFSETTO:+0100
END:STANDARD
END:VTIMEZONE
BEGIN:VTIMEZONE
TZID:UTC
BEGIN:STANDARD
DTSTART:20250729T024929Z
TZOFFSETFROM:+0000
TZOFFSETTO:+0000
END:STANDARD
END:VTIMEZONE
BEGIN:VEVENT
UID:4016-388
DTSTAMP:20260425T024929Z
SUMMARY:OK Sitzung IG Räbeliechtli
LOCATION:Klairs Saal mit Küche   Nänikon
ORGANIZER;CN=Gemeindeverein Nänikon:MAILTO:praesident@naenikon.ch
DTSTART;TZID=Etc/GMT-1:20190127T173000
DTEND;TZID=Etc/GMT-1:20190127T180000
X-ALT-DESC;FMTTYPE=TEXT/HTML:
CATEGORIES:Sitzung
URL;VALUE=URI:https://klairs.ch/mc-events/ok-sitzung-ig-raebeliechtli/
METHOD:PUBLISH
END:VEVENT
END:VCALENDAR