BEGIN:VCALENDAR
VERSION:2.0
PRODID:spatie/icalendar-generator
DESCRIPTION:Veranstaltungen von Klairs
X-WR-CALDESC:Veranstaltungen von Klairs
REFRESH-INTERVAL;VALUE=DURATION:PT1440M
X-PUBLISHED-TTL:PT1440M
BEGIN:VTIMEZONE
TZID:Etc/GMT-1
BEGIN:STANDARD
DTSTART:20190109T130000Z
TZOFFSETFROM:+0100
TZOFFSETTO:+0100
END:STANDARD
END:VTIMEZONE
BEGIN:VTIMEZONE
TZID:UTC
BEGIN:STANDARD
DTSTART:20250729T115937Z
TZOFFSETFROM:+0000
TZOFFSETTO:+0000
END:STANDARD
END:VTIMEZONE
BEGIN:VEVENT
UID:4005-377
DTSTAMP:20260425T115937Z
SUMMARY:Sunntig Kafi im Klairs
LOCATION:Klairs ganzes Lokal Bühlstrasse 16  Nänikon  8606
ORGANIZER;CN=Genossenschaft Klairs:MAILTO:kontakt@klairs.ch
DTSTART;TZID=Etc/GMT-1:20191006T130000
DTEND;TZID=Etc/GMT-1:20191006T180000
X-ALT-DESC;FMTTYPE=TEXT/HTML:<p>Sunntig Kafi im Klairs</p>\n
CATEGORIES:Kafi im Klairs
URL;VALUE=URI:https://klairs.ch/mc-events/sunntig-kafi-im-klairs-14/
METHOD:PUBLISH
END:VEVENT
END:VCALENDAR