BEGIN:VCALENDAR
VERSION:2.0
PRODID:spatie/icalendar-generator
DESCRIPTION:Veranstaltungen von Klairs
X-WR-CALDESC:Veranstaltungen von Klairs
REFRESH-INTERVAL;VALUE=DURATION:PT1440M
X-PUBLISHED-TTL:PT1440M
BEGIN:VTIMEZONE
TZID:Etc/GMT-1
BEGIN:STANDARD
DTSTART:20180207T100000Z
TZOFFSETFROM:+0100
TZOFFSETTO:+0100
END:STANDARD
END:VTIMEZONE
BEGIN:VTIMEZONE
TZID:UTC
BEGIN:STANDARD
DTSTART:20250729T034119Z
TZOFFSETFROM:+0000
TZOFFSETTO:+0000
END:STANDARD
END:VTIMEZONE
BEGIN:VEVENT
UID:3983-344
DTSTAMP:20260425T034119Z
SUMMARY:Live im Klairs
LOCATION:
ORGANIZER;CN=Gemeindeverein Nänikon:MAILTO:praesident@naenikon.ch
DTSTART;TZID=Etc/GMT-1:20181104T100000
DTEND;TZID=Etc/GMT-1:20181104T130000
X-ALT-DESC;FMTTYPE=TEXT/HTML:<p>Begegnung im Bühl<br />\nKonzert - Apero -
  Kaffee - Kuchen</p>\n
CATEGORIES:Konzert
URL;VALUE=URI:https://klairs.ch/mc-events/live-im-klairs-4/
METHOD:PUBLISH
END:VEVENT
END:VCALENDAR