BEGIN:VCALENDAR
VERSION:2.0
PRODID:spatie/icalendar-generator
DESCRIPTION:Veranstaltungen von Klairs
X-WR-CALDESC:Veranstaltungen von Klairs
REFRESH-INTERVAL;VALUE=DURATION:PT1440M
X-PUBLISHED-TTL:PT1440M
BEGIN:VTIMEZONE
TZID:Etc/GMT-1
BEGIN:STANDARD
DTSTART:20190204T173000Z
TZOFFSETFROM:+0100
TZOFFSETTO:+0100
END:STANDARD
END:VTIMEZONE
BEGIN:VTIMEZONE
TZID:UTC
BEGIN:STANDARD
DTSTART:20250730T015056Z
TZOFFSETFROM:+0000
TZOFFSETTO:+0000
END:STANDARD
END:VTIMEZONE
BEGIN:VEVENT
UID:3517-331
DTSTAMP:20260426T015056Z
SUMMARY:Kino im Klairs
LOCATION:Klairs Saal mit Küche   Nänikon
ORGANIZER;CN=Pfarrei Johannes XXIII:MAILTO:kathpfarramt@pfarrei-greifensee.
 ch
DTSTART;TZID=Etc/GMT-1:20191101T173000
DTEND;TZID=Etc/GMT-1:20191101T223000
X-ALT-DESC;FMTTYPE=TEXT/HTML:<p>Ökumenischer Kinoabend\, Türöffnung: 19.
 00 Uhr</p>\n
CATEGORIES:Kino
URL;VALUE=URI:https://klairs.ch/mc-events/kino-im-klairs-4/
METHOD:PUBLISH
END:VEVENT
END:VCALENDAR