BEGIN:VCALENDAR
VERSION:2.0
PRODID:spatie/icalendar-generator
DESCRIPTION:Veranstaltungen von Klairs
X-WR-CALDESC:Veranstaltungen von Klairs
REFRESH-INTERVAL;VALUE=DURATION:PT1440M
X-PUBLISHED-TTL:PT1440M
BEGIN:VTIMEZONE
TZID:Etc/GMT-1
BEGIN:STANDARD
DTSTART:20170721T070000Z
TZOFFSETFROM:+0100
TZOFFSETTO:+0100
END:STANDARD
END:VTIMEZONE
BEGIN:VTIMEZONE
TZID:UTC
BEGIN:STANDARD
DTSTART:20250729T115620Z
TZOFFSETFROM:+0000
TZOFFSETTO:+0000
END:STANDARD
END:VTIMEZONE
BEGIN:VEVENT
UID:3476-316
DTSTAMP:20260425T115620Z
SUMMARY:Pfarrkonvent Reformierte Kirche Uster
LOCATION:Klairs Sitzungszimmer   Nänikon
ORGANIZER;CN=Reformierte Kirche Uster:MAILTO:beatrice.schulte@refuster.ch
DTSTART;TZID=Etc/GMT-1:20180417T070000
DTEND;TZID=Etc/GMT-1:20180417T130000
X-ALT-DESC;FMTTYPE=TEXT/HTML:
CATEGORIES:Sitzung
URL;VALUE=URI:https://klairs.ch/mc-events/pfarrkonvent-reformierte-kirche-u
 ster-2/
METHOD:PUBLISH
END:VEVENT
END:VCALENDAR