BEGIN:VCALENDAR
VERSION:2.0
PRODID:spatie/icalendar-generator
DESCRIPTION:Veranstaltungen von Klairs
X-WR-CALDESC:Veranstaltungen von Klairs
REFRESH-INTERVAL;VALUE=DURATION:PT1440M
X-PUBLISHED-TTL:PT1440M
BEGIN:VTIMEZONE
TZID:Etc/GMT-1
BEGIN:STANDARD
DTSTART:20180102T160000Z
TZOFFSETFROM:+0100
TZOFFSETTO:+0100
END:STANDARD
END:VTIMEZONE
BEGIN:VTIMEZONE
TZID:UTC
BEGIN:STANDARD
DTSTART:20250728T161721Z
TZOFFSETFROM:+0000
TZOFFSETTO:+0000
END:STANDARD
END:VTIMEZONE
BEGIN:VEVENT
UID:3413-287
DTSTAMP:20260424T161721Z
SUMMARY:Live im Klairs Spezial
LOCATION:
ORGANIZER;CN=Gemeindeverein Nänikon:MAILTO:praesident@naenikon.ch
DTSTART;TZID=Etc/GMT-1:20180929T160000
DTEND;TZID=Etc/GMT-1:20180929T234500
X-ALT-DESC;FMTTYPE=TEXT/HTML:Samstag 29. September 2018\, 19 Uhr\, Eintritt
  Fr. 40.- Inbegriffen kalte Platte mit Käse und Wurst\, Brot\, Wasser Fü
 r Wein\, Kaffee und Kuchen sind die Kässeli auf dem Tisch BO-SISTERS\, DR
 EI STIMMEN\, EIN PIANO Songs von Bob Dylan\, Bee Gees\, Sina\, Patent Ochs
 ner und vielen anderen Künstlern RESERVATIONEN ab sofort an Gabi Stella\,
  Waldaustrasse 24&amp;hellip\;
CATEGORIES:Konzert
URL;VALUE=URI:https://klairs.ch/mc-events/live-im-klairs-spezial-3/
METHOD:PUBLISH
END:VEVENT
END:VCALENDAR