BEGIN:VCALENDAR
VERSION:2.0
PRODID:spatie/icalendar-generator
DESCRIPTION:Veranstaltungen von Klairs
X-WR-CALDESC:Veranstaltungen von Klairs
REFRESH-INTERVAL;VALUE=DURATION:PT1440M
X-PUBLISHED-TTL:PT1440M
BEGIN:VTIMEZONE
TZID:Etc/GMT-1
BEGIN:STANDARD
DTSTART:20170416T180000Z
TZOFFSETFROM:+0100
TZOFFSETTO:+0100
END:STANDARD
END:VTIMEZONE
BEGIN:VTIMEZONE
TZID:UTC
BEGIN:STANDARD
DTSTART:20250728T114812Z
TZOFFSETFROM:+0000
TZOFFSETTO:+0000
END:STANDARD
END:VTIMEZONE
BEGIN:VEVENT
UID:3054-242
DTSTAMP:20260424T114812Z
SUMMARY:Neujahrsapéro des Frauenvereins
LOCATION:Klairs Saal mit Küche   Nänikon
ORGANIZER;CN=Frauenverein Nänikon-Werrikon:MAILTO:frauenverein@naenikon.ch
DTSTART;TZID=Etc/GMT-1:20180111T180000
DTEND;TZID=Etc/GMT-1:20180111T220000
X-ALT-DESC;FMTTYPE=TEXT/HTML:<p>Neujahrsapero des Frauenvereins</p>\n
CATEGORIES:Apero
URL;VALUE=URI:https://klairs.ch/mc-events/neujahrsapero-des-frauenvereins/
METHOD:PUBLISH
END:VEVENT
END:VCALENDAR