BEGIN:VCALENDAR
VERSION:2.0
PRODID:spatie/icalendar-generator
DESCRIPTION:Veranstaltungen von Klairs
X-WR-CALDESC:Veranstaltungen von Klairs
REFRESH-INTERVAL;VALUE=DURATION:PT1440M
X-PUBLISHED-TTL:PT1440M
BEGIN:VTIMEZONE
TZID:Etc/GMT-1
BEGIN:STANDARD
DTSTART:20161126T194500Z
TZOFFSETFROM:+0100
TZOFFSETTO:+0100
END:STANDARD
END:VTIMEZONE
BEGIN:VTIMEZONE
TZID:UTC
BEGIN:STANDARD
DTSTART:20250728T225144Z
TZOFFSETFROM:+0000
TZOFFSETTO:+0000
END:STANDARD
END:VTIMEZONE
BEGIN:VEVENT
UID:1608-177
DTSTAMP:20260424T225144Z
SUMMARY:Probe Gem.Chor
LOCATION:Klairs Saal Bühlstrasse 16  Nänikon  8606
ORGANIZER;CN=Gemischter Chor:MAILTO:wmdenzler@bluewin.ch
DTSTART;TZID=Etc/GMT-1:20170823T194500
DTEND;TZID=Etc/GMT-1:20170823T220000
X-ALT-DESC;FMTTYPE=TEXT/HTML:
CATEGORIES:Allgemein
URL;VALUE=URI:https://klairs.ch/mc-events/probe-gem-chor-3/
METHOD:PUBLISH
END:VEVENT
END:VCALENDAR