BEGIN:VCALENDAR
VERSION:2.0
PRODID:spatie/icalendar-generator
DESCRIPTION:Veranstaltungen von Klairs
X-WR-CALDESC:Veranstaltungen von Klairs
REFRESH-INTERVAL;VALUE=DURATION:PT1440M
X-PUBLISHED-TTL:PT1440M
BEGIN:VTIMEZONE
TZID:Etc/GMT-1
BEGIN:STANDARD
DTSTART:20160620T150000Z
TZOFFSETFROM:+0100
TZOFFSETTO:+0100
END:STANDARD
END:VTIMEZONE
BEGIN:VTIMEZONE
TZID:UTC
BEGIN:STANDARD
DTSTART:20250725T151419Z
TZOFFSETFROM:+0000
TZOFFSETTO:+0000
END:STANDARD
END:VTIMEZONE
BEGIN:VEVENT
UID:1554-69
DTSTAMP:20260421T151419Z
SUMMARY:cool 4
LOCATION:Klairs ganzes Lokal Bühlstrasse 16  Nänikon  8606
ORGANIZER;CN=Reformierte Kirche Uster:MAILTO:beatrice.schulte@refuster.ch
DTSTART;TZID=Etc/GMT-1:20170317T150000
DTEND;TZID=Etc/GMT-1:20170317T200000
X-ALT-DESC;FMTTYPE=TEXT/HTML:
CATEGORIES:Unti-Saal
URL;VALUE=URI:https://klairs.ch/mc-events/cool-4-8/
METHOD:PUBLISH
END:VEVENT
END:VCALENDAR