BEGIN:VCALENDAR
VERSION:2.0
PRODID:spatie/icalendar-generator
DESCRIPTION:Veranstaltungen von Klairs
X-WR-CALDESC:Veranstaltungen von Klairs
REFRESH-INTERVAL;VALUE=DURATION:PT1440M
X-PUBLISHED-TTL:PT1440M
BEGIN:VTIMEZONE
TZID:Etc/GMT-1
BEGIN:STANDARD
DTSTART:20250715T093000Z
TZOFFSETFROM:+0100
TZOFFSETTO:+0100
END:STANDARD
END:VTIMEZONE
BEGIN:VTIMEZONE
TZID:UTC
BEGIN:STANDARD
DTSTART:20250723T142838Z
TZOFFSETFROM:+0000
TZOFFSETTO:+0000
END:STANDARD
END:VTIMEZONE
BEGIN:VEVENT
UID:11821-1063
DTSTAMP:20260419T142838Z
SUMMARY:Jubla-Gruppenstunde und Event
LOCATION:Klairs ganzes Lokal Bühlstrasse 16  Nänikon  8606
ORGANIZER;CN=Pfarrei Johannes XXIII:MAILTO:kathpfarramt@pfarrei-greifensee.
 ch
DTSTART;TZID=Etc/GMT-1:20260411T093000
DTEND;TZID=Etc/GMT-1:20260411T220000
X-ALT-DESC;FMTTYPE=TEXT/HTML:www.jubla8606.ch
CATEGORIES:Allgemein
URL;VALUE=URI:https://klairs.ch/mc-events/jubla-gruppenstunde-und-event-2/
METHOD:PUBLISH
END:VEVENT
END:VCALENDAR