BEGIN:VCALENDAR
VERSION:2.0
PRODID:spatie/icalendar-generator
DESCRIPTION:Veranstaltungen von Klairs
X-WR-CALDESC:Veranstaltungen von Klairs
REFRESH-INTERVAL;VALUE=DURATION:PT1440M
X-PUBLISHED-TTL:PT1440M
BEGIN:VTIMEZONE
TZID:Etc/GMT-1
BEGIN:STANDARD
DTSTART:20240218T190000Z
TZOFFSETFROM:+0100
TZOFFSETTO:+0100
END:STANDARD
END:VTIMEZONE
BEGIN:VTIMEZONE
TZID:UTC
BEGIN:STANDARD
DTSTART:20250730T002150Z
TZOFFSETFROM:+0000
TZOFFSETTO:+0000
END:STANDARD
END:VTIMEZONE
BEGIN:VEVENT
UID:10796-973
DTSTAMP:20260426T002150Z
SUMMARY:Chor Sitzung
LOCATION:Klairs Sitzungszimmer   Nänikon
ORGANIZER;CN=Gemischter Chor:MAILTO:wmdenzler@bluewin.ch
DTSTART;TZID=Etc/GMT-1:20241114T190000
DTEND;TZID=Etc/GMT-1:20241114T220000
X-ALT-DESC;FMTTYPE=TEXT/HTML:
CATEGORIES:Sitzung
URL;VALUE=URI:https://klairs.ch/mc-events/chor-sitzung/
METHOD:PUBLISH
END:VEVENT
END:VCALENDAR