BEGIN:VCALENDAR
VERSION:2.0
PRODID:spatie/icalendar-generator
DESCRIPTION:Veranstaltungen von Klairs
X-WR-CALDESC:Veranstaltungen von Klairs
REFRESH-INTERVAL;VALUE=DURATION:PT1440M
X-PUBLISHED-TTL:PT1440M
BEGIN:VTIMEZONE
TZID:Etc/GMT-1
BEGIN:STANDARD
DTSTART:20231212T171500Z
TZOFFSETFROM:+0100
TZOFFSETTO:+0100
END:STANDARD
END:VTIMEZONE
BEGIN:VTIMEZONE
TZID:UTC
BEGIN:STANDARD
DTSTART:20250728T043122Z
TZOFFSETFROM:+0000
TZOFFSETTO:+0000
END:STANDARD
END:VTIMEZONE
BEGIN:VEVENT
UID:10642-919
DTSTAMP:20260424T043122Z
SUMMARY:Näniker Gottesdienst am Samstagabend
LOCATION:Klairs Saal mit Küche   Nänikon
ORGANIZER;CN=Reformierte Kirche Uster:MAILTO:beatrice.schulte@refuster.ch
DTSTART;TZID=Etc/GMT-1:20240907T171500
DTEND;TZID=Etc/GMT-1:20240907T194500
X-ALT-DESC;FMTTYPE=TEXT/HTML:bewahren und staunen Der Greifensee ist für d
 ie Menschen in und um Uster das wichtigste Naherholungsgebiet und ein Ort 
 der Regeneration. Die unterschiedlichsten Bedürfnisse von Mensch und Tier
 \, von Flora und Fauna kommen hier zusammen. Wie geht das überhaupt und w
 as ist wichtig für den Schutz des Greifensees und die Erhaltung des vielf
 ältigen Lebensraumes in&amp;hellip\;
CATEGORIES:Gottesdienst
URL;VALUE=URI:https://klairs.ch/mc-events/naeniker-gottesdienst-am-samstaga
 bend/
METHOD:PUBLISH
END:VEVENT
END:VCALENDAR