BEGIN:VCALENDAR
VERSION:2.0
PRODID:spatie/icalendar-generator
DESCRIPTION:Veranstaltungen von Klairs
X-WR-CALDESC:Veranstaltungen von Klairs
REFRESH-INTERVAL;VALUE=DURATION:PT1440M
X-PUBLISHED-TTL:PT1440M
BEGIN:VTIMEZONE
TZID:Etc/GMT-1
BEGIN:STANDARD
DTSTART:20221213T100000Z
TZOFFSETFROM:+0100
TZOFFSETTO:+0100
END:STANDARD
END:VTIMEZONE
BEGIN:VTIMEZONE
TZID:UTC
BEGIN:STANDARD
DTSTART:20250729T153450Z
TZOFFSETFROM:+0000
TZOFFSETTO:+0000
END:STANDARD
END:VTIMEZONE
BEGIN:VEVENT
UID:10013-808
DTSTAMP:20260425T153450Z
SUMMARY:Einrichten Näniker GD/Musik
LOCATION:Klairs Saal mit Küche   Nänikon
ORGANIZER;CN=Reformierte Kirche Uster:MAILTO:beatrice.schulte@refuster.ch
DTSTART;TZID=Etc/GMT-1:20230909T100000
DTEND;TZID=Etc/GMT-1:20230909T144500
X-ALT-DESC;FMTTYPE=TEXT/HTML:Für den Näniker GD wird der Saal eingerichte
 t.
CATEGORIES:Allgemein
URL;VALUE=URI:https://klairs.ch/mc-events/einrichten-naeniker-gd-musik/
METHOD:PUBLISH
END:VEVENT
END:VCALENDAR