BEGIN:VCALENDAR
VERSION:2.0
PRODID:spatie/icalendar-generator
DESCRIPTION:Veranstaltungen von Klairs
X-WR-CALDESC:Veranstaltungen von Klairs
REFRESH-INTERVAL;VALUE=DURATION:PT1440M
X-PUBLISHED-TTL:PT1440M
BEGIN:VTIMEZONE
TZID:Etc/GMT-1
BEGIN:STANDARD
DTSTART:20220624T180000Z
TZOFFSETFROM:+0100
TZOFFSETTO:+0100
END:STANDARD
END:VTIMEZONE
BEGIN:VTIMEZONE
TZID:UTC
BEGIN:STANDARD
DTSTART:20250725T183057Z
TZOFFSETFROM:+0000
TZOFFSETTO:+0000
END:STANDARD
END:VTIMEZONE
BEGIN:VEVENT
UID:9661-769
DTSTAMP:20260421T183057Z
SUMMARY:SCN Leitersitzung
LOCATION:Klairs Sitzungszimmer   Nänikon
ORGANIZER;CN=Sportclub Naenikon:MAILTO:praesident@scn.ch
DTSTART;TZID=Etc/GMT-1:20230321T180000
DTEND;TZID=Etc/GMT-1:20230321T213000
X-ALT-DESC;FMTTYPE=TEXT/HTML:
CATEGORIES:Sitzung,  Allgemein
URL;VALUE=URI:https://klairs.ch/mc-events/scn-leitersitzung-3/
METHOD:PUBLISH
END:VEVENT
END:VCALENDAR