BEGIN:VCALENDAR
VERSION:2.0
PRODID:spatie/icalendar-generator
DESCRIPTION:Veranstaltungen von Klairs
X-WR-CALDESC:Veranstaltungen von Klairs
REFRESH-INTERVAL;VALUE=DURATION:PT1440M
X-PUBLISHED-TTL:PT1440M
BEGIN:VTIMEZONE
TZID:Etc/GMT-1
BEGIN:STANDARD
DTSTART:20220630T200000Z
TZOFFSETFROM:+0100
TZOFFSETTO:+0100
END:STANDARD
END:VTIMEZONE
BEGIN:VTIMEZONE
TZID:UTC
BEGIN:STANDARD
DTSTART:20250726T033710Z
TZOFFSETFROM:+0000
TZOFFSETTO:+0000
END:STANDARD
END:VTIMEZONE
BEGIN:VEVENT
UID:9208-764
DTSTAMP:20260422T033710Z
SUMMARY:Jubiläumsanlass SCN
LOCATION:Klairs Saal mit Küche   Nänikon
ORGANIZER;CN=Sportclub Naenikon:MAILTO:praesident@scn.ch
DTSTART;TZID=Etc/GMT-1:20230327T200000
DTEND;TZID=Etc/GMT-1:20230327T220000
X-ALT-DESC;FMTTYPE=TEXT/HTML:
CATEGORIES:Allgemein
URL;VALUE=URI:https://klairs.ch/mc-events/jubilaeumsanlass-scn-4/
METHOD:PUBLISH
END:VEVENT
END:VCALENDAR