BEGIN:VCALENDAR
VERSION:2.0
PRODID:spatie/icalendar-generator
DESCRIPTION:Veranstaltungen von Klairs
X-WR-CALDESC:Veranstaltungen von Klairs
REFRESH-INTERVAL;VALUE=DURATION:PT1440M
X-PUBLISHED-TTL:PT1440M
BEGIN:VTIMEZONE
TZID:Etc/GMT-1
BEGIN:STANDARD
DTSTART:20220707T194500Z
TZOFFSETFROM:+0100
TZOFFSETTO:+0100
END:STANDARD
END:VTIMEZONE
BEGIN:VTIMEZONE
TZID:UTC
BEGIN:STANDARD
DTSTART:20250725T110145Z
TZOFFSETFROM:+0000
TZOFFSETTO:+0000
END:STANDARD
END:VTIMEZONE
BEGIN:VEVENT
UID:9205-761
DTSTAMP:20260421T110145Z
SUMMARY:Grümpisitzung SCN
LOCATION:Klairs Sitzungszimmer   Nänikon
ORGANIZER;CN=Sportclub Naenikon:MAILTO:praesident@scn.ch
DTSTART;TZID=Etc/GMT-1:20230403T194500
DTEND;TZID=Etc/GMT-1:20230403T213000
X-ALT-DESC;FMTTYPE=TEXT/HTML:
CATEGORIES:Allgemein,  Sitzung
URL;VALUE=URI:https://klairs.ch/mc-events/gruempisitzung-scn-2/
METHOD:PUBLISH
END:VEVENT
END:VCALENDAR