BEGIN:VCALENDAR
VERSION:2.0
PRODID:spatie/icalendar-generator
DESCRIPTION:Veranstaltungen von Klairs
X-WR-CALDESC:Veranstaltungen von Klairs
REFRESH-INTERVAL;VALUE=DURATION:PT1440M
X-PUBLISHED-TTL:PT1440M
BEGIN:VTIMEZONE
TZID:Etc/GMT-1
BEGIN:STANDARD
DTSTART:20210619T193000Z
TZOFFSETFROM:+0100
TZOFFSETTO:+0100
END:STANDARD
END:VTIMEZONE
BEGIN:VTIMEZONE
TZID:UTC
BEGIN:STANDARD
DTSTART:20250728T132022Z
TZOFFSETFROM:+0000
TZOFFSETTO:+0000
END:STANDARD
END:VTIMEZONE
BEGIN:VEVENT
UID:8726-665
DTSTAMP:20260424T132022Z
SUMMARY:Vorstandssitzung FV
LOCATION:
ORGANIZER;CN=Frauenverein Nänikon-Werrikon:MAILTO:frauenverein@naenikon.ch
DTSTART;TZID=Etc/GMT-1:20220316T193000
DTEND;TZID=Etc/GMT-1:20220316T223000
X-ALT-DESC;FMTTYPE=TEXT/HTML:
CATEGORIES:Allgemein
URL;VALUE=URI:https://klairs.ch/mc-events/vorstandssitzung-fv-20/
METHOD:PUBLISH
END:VEVENT
END:VCALENDAR