BEGIN:VCALENDAR
VERSION:2.0
PRODID:spatie/icalendar-generator
DESCRIPTION:Veranstaltungen von Klairs
X-WR-CALDESC:Veranstaltungen von Klairs
REFRESH-INTERVAL;VALUE=DURATION:PT1440M
X-PUBLISHED-TTL:PT1440M
BEGIN:VTIMEZONE
TZID:Etc/GMT-1
BEGIN:STANDARD
DTSTART:20210612T183000Z
TZOFFSETFROM:+0100
TZOFFSETTO:+0100
END:STANDARD
END:VTIMEZONE
BEGIN:VTIMEZONE
TZID:UTC
BEGIN:STANDARD
DTSTART:20250724T002028Z
TZOFFSETFROM:+0000
TZOFFSETTO:+0000
END:STANDARD
END:VTIMEZONE
BEGIN:VEVENT
UID:8700-657
DTSTAMP:20260420T002028Z
SUMMARY:STWEG Stationsstr. 55 / Nänikon
LOCATION:Klairs Sitzungszimmer   Nänikon
ORGANIZER;CN=Hansruedi Stella:MAILTO:hstella@bluewin.ch
DTSTART;TZID=Etc/GMT-1:20220309T183000
DTEND;TZID=Etc/GMT-1:20220309T210000
X-ALT-DESC;FMTTYPE=TEXT/HTML:
CATEGORIES:Sitzung,  Allgemein
URL;VALUE=URI:https://klairs.ch/mc-events/stweg-stationsstr-55-naenikon/
METHOD:PUBLISH
END:VEVENT
END:VCALENDAR