BEGIN:VCALENDAR
VERSION:2.0
PRODID:spatie/icalendar-generator
DESCRIPTION:Veranstaltungen von Klairs
X-WR-CALDESC:Veranstaltungen von Klairs
REFRESH-INTERVAL;VALUE=DURATION:PT1440M
X-PUBLISHED-TTL:PT1440M
BEGIN:VTIMEZONE
TZID:Etc/GMT-1
BEGIN:STANDARD
DTSTART:20220207T163000Z
TZOFFSETFROM:+0100
TZOFFSETTO:+0100
END:STANDARD
END:VTIMEZONE
BEGIN:VTIMEZONE
TZID:UTC
BEGIN:STANDARD
DTSTART:20250726T005641Z
TZOFFSETFROM:+0000
TZOFFSETTO:+0000
END:STANDARD
END:VTIMEZONE
BEGIN:VEVENT
UID:8689-652
DTSTAMP:20260422T005641Z
SUMMARY:Supervision Gruppe
LOCATION:Klairs Sitzungszimmer   Nänikon
ORGANIZER;CN=Genossenschaft Klairs:MAILTO:kontakt@klairs.ch
DTSTART;TZID=Etc/GMT-1:20221104T163000
DTEND;TZID=Etc/GMT-1:20221104T203000
X-ALT-DESC;FMTTYPE=TEXT/HTML:Hanne Grimm
CATEGORIES:Sitzung
URL;VALUE=URI:https://klairs.ch/mc-events/supervision-gruppe-7/
METHOD:PUBLISH
END:VEVENT
END:VCALENDAR