BEGIN:VCALENDAR
VERSION:2.0
PRODID:spatie/icalendar-generator
DESCRIPTION:Veranstaltungen von Klairs
X-WR-CALDESC:Veranstaltungen von Klairs
REFRESH-INTERVAL;VALUE=DURATION:PT1440M
X-PUBLISHED-TTL:PT1440M
BEGIN:VTIMEZONE
TZID:Etc/GMT-1
BEGIN:STANDARD
DTSTART:20210501T194500Z
TZOFFSETFROM:+0100
TZOFFSETTO:+0100
END:STANDARD
END:VTIMEZONE
BEGIN:VTIMEZONE
TZID:UTC
BEGIN:STANDARD
DTSTART:20250729T131706Z
TZOFFSETFROM:+0000
TZOFFSETTO:+0000
END:STANDARD
END:VTIMEZONE
BEGIN:VEVENT
UID:6314-626
DTSTAMP:20260425T131706Z
SUMMARY:Chorprobe
LOCATION:
ORGANIZER;CN=Gemischter Chor:MAILTO:wmdenzler@bluewin.ch
RRULE:FREQ=DAILY;INTERVAL=7;COUNT=4
DTSTART;TZID=Etc/GMT-1:20220126T194500
DTEND;TZID=Etc/GMT-1:20220126T221500
X-ALT-DESC;FMTTYPE=TEXT/HTML:
CATEGORIES:Allgemein
URL;VALUE=URI:https://klairs.ch/mc-events/chorprobe-6/?mc_id=6314
METHOD:PUBLISH
END:VEVENT
END:VCALENDAR