BEGIN:VCALENDAR
VERSION:2.0
PRODID:spatie/icalendar-generator
DESCRIPTION:Veranstaltungen von Klairs
X-WR-CALDESC:Veranstaltungen von Klairs
REFRESH-INTERVAL;VALUE=DURATION:PT1440M
X-PUBLISHED-TTL:PT1440M
BEGIN:VTIMEZONE
TZID:Etc/GMT-1
BEGIN:STANDARD
DTSTART:20220214T180000Z
TZOFFSETFROM:+0100
TZOFFSETTO:+0100
END:STANDARD
END:VTIMEZONE
BEGIN:VTIMEZONE
TZID:UTC
BEGIN:STANDARD
DTSTART:20250726T134144Z
TZOFFSETFROM:+0000
TZOFFSETTO:+0000
END:STANDARD
END:VTIMEZONE
BEGIN:VEVENT
UID:6299-615
DTSTAMP:20260422T134144Z
SUMMARY:Ökumenischer Filmabend
LOCATION:
ORGANIZER;CN=Pfarrei Johannes XXIII:MAILTO:kathpfarramt@pfarrei-greifensee.
 ch
DTSTART;TZID=Etc/GMT-1:20221111T180000
DTEND;TZID=Etc/GMT-1:20221111T220000
X-ALT-DESC;FMTTYPE=TEXT/HTML:<p>Ökumenischer Filmabend\, freier Eintritt -
  Kollekte</p>\n
CATEGORIES:Kino
URL;VALUE=URI:https://klairs.ch/mc-events/oekumenischer-filmabend-2/
METHOD:PUBLISH
END:VEVENT
END:VCALENDAR