BEGIN:VCALENDAR
VERSION:2.0
PRODID:spatie/icalendar-generator
DESCRIPTION:Veranstaltungen von Klairs
X-WR-CALDESC:Veranstaltungen von Klairs
REFRESH-INTERVAL;VALUE=DURATION:PT1440M
X-PUBLISHED-TTL:PT1440M
BEGIN:VTIMEZONE
TZID:Etc/GMT-1
BEGIN:STANDARD
DTSTART:20160708T190000Z
TZOFFSETFROM:+0100
TZOFFSETTO:+0100
END:STANDARD
END:VTIMEZONE
BEGIN:VTIMEZONE
TZID:UTC
BEGIN:STANDARD
DTSTART:20250726T063822Z
TZOFFSETFROM:+0000
TZOFFSETTO:+0000
END:STANDARD
END:VTIMEZONE
BEGIN:VEVENT
UID:539-89
DTSTAMP:20260422T063822Z
SUMMARY:Stockwerkeigentümerversammlung  Bluetmattstrasse
LOCATION:Klairs Saal mit Küche   Nänikon
ORGANIZER;CN=Gemeindeverein Nänikon:MAILTO:praesident@naenikon.ch
DTSTART;TZID=Etc/GMT-1:20170404T190000
DTEND;TZID=Etc/GMT-1:20170404T220000
X-ALT-DESC;FMTTYPE=TEXT/HTML:
CATEGORIES:Sitzung
URL;VALUE=URI:https://klairs.ch/mc-events/stockwerkeigentuemerversammlung-b
 luetmattstrasse-2/
METHOD:PUBLISH
END:VEVENT
END:VCALENDAR