BEGIN:VCALENDAR
VERSION:2.0
PRODID:spatie/icalendar-generator
DESCRIPTION:Veranstaltungen von Klairs
X-WR-CALDESC:Veranstaltungen von Klairs
REFRESH-INTERVAL;VALUE=DURATION:PT1440M
X-PUBLISHED-TTL:PT1440M
BEGIN:VTIMEZONE
TZID:Etc/GMT-1
BEGIN:STANDARD
DTSTART:20151210T200000Z
TZOFFSETFROM:+0100
TZOFFSETTO:+0100
END:STANDARD
END:VTIMEZONE
BEGIN:VTIMEZONE
TZID:UTC
BEGIN:STANDARD
DTSTART:20250726T021544Z
TZOFFSETFROM:+0000
TZOFFSETTO:+0000
END:STANDARD
END:VTIMEZONE
BEGIN:VEVENT
UID:535-85
DTSTAMP:20260422T021544Z
SUMMARY:Sportclub Nänikon Leitersitzung
LOCATION:Klairs Sitzungszimmer   Nänikon
ORGANIZER;CN=Sportclub Naenikon:MAILTO:praesident@scn.ch
DTSTART;TZID=Etc/GMT-1:20160905T200000
DTEND;TZID=Etc/GMT-1:20160905T220000
X-ALT-DESC;FMTTYPE=TEXT/HTML:<p>Sitzung</p>\n
CATEGORIES:Sitzung
URL;VALUE=URI:https://klairs.ch/mc-events/sportclub-naenikon-leitersitzung/
METHOD:PUBLISH
END:VEVENT
END:VCALENDAR