BEGIN:VCALENDAR
VERSION:2.0
PRODID:spatie/icalendar-generator
DESCRIPTION:Veranstaltungen von Klairs
X-WR-CALDESC:Veranstaltungen von Klairs
REFRESH-INTERVAL;VALUE=DURATION:PT1440M
X-PUBLISHED-TTL:PT1440M
BEGIN:VTIMEZONE
TZID:Etc/GMT-1
BEGIN:STANDARD
DTSTART:20200917T181500Z
TZOFFSETFROM:+0100
TZOFFSETTO:+0100
END:STANDARD
END:VTIMEZONE
BEGIN:VTIMEZONE
TZID:UTC
BEGIN:STANDARD
DTSTART:20250725T155440Z
TZOFFSETFROM:+0000
TZOFFSETTO:+0000
END:STANDARD
END:VTIMEZONE
BEGIN:VEVENT
UID:4923-582
DTSTAMP:20260421T155440Z
SUMMARY:Yoga mit Ingrid
LOCATION:Klairs Sitzungszimmer   Nänikon
ORGANIZER;CN=Genossenschaft Klairs:MAILTO:kontakt@klairs.ch
RRULE:FREQ=WEEKLY;COUNT=28
DTSTART;TZID=Etc/GMT-1:20210614T181500
DTEND;TZID=Etc/GMT-1:20210614T201500
X-ALT-DESC;FMTTYPE=TEXT/HTML:
CATEGORIES:Sitzung
URL;VALUE=URI:https://klairs.ch/mc-events/yoga-mit-ingrid/?mc_id=4923
METHOD:PUBLISH
END:VEVENT
END:VCALENDAR