BEGIN:VCALENDAR
VERSION:2.0
PRODID:spatie/icalendar-generator
DESCRIPTION:Veranstaltungen von Klairs
X-WR-CALDESC:Veranstaltungen von Klairs
REFRESH-INTERVAL;VALUE=DURATION:PT1440M
X-PUBLISHED-TTL:PT1440M
BEGIN:VTIMEZONE
TZID:Etc/GMT-1
BEGIN:STANDARD
DTSTART:20200924T190000Z
TZOFFSETFROM:+0100
TZOFFSETTO:+0100
END:STANDARD
END:VTIMEZONE
BEGIN:VTIMEZONE
TZID:UTC
BEGIN:STANDARD
DTSTART:20250725T223059Z
TZOFFSETFROM:+0000
TZOFFSETTO:+0000
END:STANDARD
END:VTIMEZONE
BEGIN:VEVENT
UID:4921-581
DTSTAMP:20260421T223059Z
SUMMARY:GVN Vs-Si
LOCATION:Klairs Sitzungszimmer   Nänikon
ORGANIZER;CN=Gemeindeverein Nänikon:MAILTO:praesident@naenikon.ch
DTSTART;TZID=Etc/GMT-1:20210621T190000
DTEND;TZID=Etc/GMT-1:20210621T210000
X-ALT-DESC;FMTTYPE=TEXT/HTML:
CATEGORIES:Allgemein
URL;VALUE=URI:https://klairs.ch/mc-events/gvn-vs-si/
METHOD:PUBLISH
END:VEVENT
END:VCALENDAR