BEGIN:VCALENDAR
VERSION:2.0
PRODID:spatie/icalendar-generator
DESCRIPTION:Veranstaltungen von Klairs
X-WR-CALDESC:Veranstaltungen von Klairs
REFRESH-INTERVAL;VALUE=DURATION:PT1440M
X-PUBLISHED-TTL:PT1440M
BEGIN:VTIMEZONE
TZID:Etc/GMT-1
BEGIN:STANDARD
DTSTART:20200522T193000Z
TZOFFSETFROM:+0100
TZOFFSETTO:+0100
END:STANDARD
END:VTIMEZONE
BEGIN:VTIMEZONE
TZID:UTC
BEGIN:STANDARD
DTSTART:20250728T201451Z
TZOFFSETFROM:+0000
TZOFFSETTO:+0000
END:STANDARD
END:VTIMEZONE
BEGIN:VEVENT
UID:4906-570
DTSTAMP:20260424T201451Z
SUMMARY:Revision SCN
LOCATION:Klairs Sitzungszimmer   Nänikon
ORGANIZER;CN=Hansruedi Stella:MAILTO:hstella@bluewin.ch
DTSTART;TZID=Etc/GMT-1:20210216T193000
DTEND;TZID=Etc/GMT-1:20210216T230000
X-ALT-DESC;FMTTYPE=TEXT/HTML:Revision SCN
CATEGORIES:Sitzung
URL;VALUE=URI:https://klairs.ch/mc-events/revision-scn/
METHOD:PUBLISH
END:VEVENT
END:VCALENDAR