BEGIN:VCALENDAR
VERSION:2.0
PRODID:spatie/icalendar-generator
DESCRIPTION:Veranstaltungen von Klairs
X-WR-CALDESC:Veranstaltungen von Klairs
REFRESH-INTERVAL;VALUE=DURATION:PT1440M
X-PUBLISHED-TTL:PT1440M
BEGIN:VTIMEZONE
TZID:Etc/GMT-1
BEGIN:STANDARD
DTSTART:20200502T194500Z
TZOFFSETFROM:+0100
TZOFFSETTO:+0100
END:STANDARD
END:VTIMEZONE
BEGIN:VTIMEZONE
TZID:UTC
BEGIN:STANDARD
DTSTART:20250728T230000Z
TZOFFSETFROM:+0000
TZOFFSETTO:+0000
END:STANDARD
END:VTIMEZONE
BEGIN:VEVENT
UID:4531-505
DTSTAMP:20260424T230000Z
SUMMARY:Chorprobe Gem. Chor
LOCATION:Klairs Saal Bühlstrasse 16  Nänikon  8606
ORGANIZER;CN=Gemischter Chor:MAILTO:wmdenzler@bluewin.ch
RRULE:FREQ=WEEKLY;COUNT=50
DTSTART;TZID=Etc/GMT-1:20210127T194500
DTEND;TZID=Etc/GMT-1:20210127T220000
X-ALT-DESC;FMTTYPE=TEXT/HTML:<p>Chorprobe Gem. Chor</p>\n
CATEGORIES:Allgemein
URL;VALUE=URI:https://klairs.ch/mc-events/chorprobe-gem-chor/?mc_id=4531
METHOD:PUBLISH
END:VEVENT
END:VCALENDAR