BEGIN:VCALENDAR
VERSION:2.0
PRODID:spatie/icalendar-generator
DESCRIPTION:Veranstaltungen von Klairs
X-WR-CALDESC:Veranstaltungen von Klairs
REFRESH-INTERVAL;VALUE=DURATION:PT1440M
X-PUBLISHED-TTL:PT1440M
BEGIN:VTIMEZONE
TZID:Etc/GMT-1
BEGIN:STANDARD
DTSTART:20190315T180000Z
TZOFFSETFROM:+0100
TZOFFSETTO:+0100
END:STANDARD
END:VTIMEZONE
BEGIN:VTIMEZONE
TZID:UTC
BEGIN:STANDARD
DTSTART:20250729T033326Z
TZOFFSETFROM:+0000
TZOFFSETTO:+0000
END:STANDARD
END:VTIMEZONE
BEGIN:VEVENT
UID:4474-476
DTSTAMP:20260425T033326Z
SUMMARY:Versammlung Elterngruppe Spielgruppe Wurzeln
LOCATION:Klairs Sitzungszimmer   Nänikon
ORGANIZER;CN=Genossenschaft Klairs:MAILTO:kontakt@klairs.ch
DTSTART;TZID=Etc/GMT-1:20191210T180000
DTEND;TZID=Etc/GMT-1:20191210T210000
X-ALT-DESC;FMTTYPE=TEXT/HTML:
CATEGORIES:Allgemein
URL;VALUE=URI:https://klairs.ch/mc-events/versammlung-elterngruppe-spielgru
 ppe-wurzeln/
METHOD:PUBLISH
END:VEVENT
END:VCALENDAR