BEGIN:VCALENDAR
VERSION:2.0
PRODID:spatie/icalendar-generator
DESCRIPTION:Veranstaltungen von Klairs
X-WR-CALDESC:Veranstaltungen von Klairs
REFRESH-INTERVAL;VALUE=DURATION:PT1440M
X-PUBLISHED-TTL:PT1440M
BEGIN:VTIMEZONE
TZID:Etc/GMT-1
BEGIN:STANDARD
DTSTART:20180327T140000Z
TZOFFSETFROM:+0100
TZOFFSETTO:+0100
END:STANDARD
END:VTIMEZONE
BEGIN:VTIMEZONE
TZID:UTC
BEGIN:STANDARD
DTSTART:20250728T195645Z
TZOFFSETFROM:+0000
TZOFFSETTO:+0000
END:STANDARD
END:VTIMEZONE
BEGIN:VEVENT
UID:3986-360
DTSTAMP:20260424T195645Z
SUMMARY:Backen
LOCATION:Klairs Küche Bühlstrasse 16  Nänikon  8606
ORGANIZER;CN=Pfarrei Johannes XXIII:MAILTO:kathpfarramt@pfarrei-greifensee.
 ch
DTSTART;TZID=Etc/GMT-1:20181222T140000
DTEND;TZID=Etc/GMT-1:20181222T190000
X-ALT-DESC;FMTTYPE=TEXT/HTML:<p>Backen für Weihnachtsgottesdienste (intern
 er Anlass)</p>\n
CATEGORIES:Allgemein
URL;VALUE=URI:https://klairs.ch/mc-events/backen/
METHOD:PUBLISH
END:VEVENT
END:VCALENDAR