BEGIN:VCALENDAR
VERSION:2.0
PRODID:spatie/icalendar-generator
DESCRIPTION:Veranstaltungen von Klairs
X-WR-CALDESC:Veranstaltungen von Klairs
REFRESH-INTERVAL;VALUE=DURATION:PT1440M
X-PUBLISHED-TTL:PT1440M
BEGIN:VTIMEZONE
TZID:Etc/GMT-1
BEGIN:STANDARD
DTSTART:20151204T193000Z
TZOFFSETFROM:+0100
TZOFFSETTO:+0100
END:STANDARD
END:VTIMEZONE
BEGIN:VTIMEZONE
TZID:UTC
BEGIN:STANDARD
DTSTART:20250726T033424Z
TZOFFSETFROM:+0000
TZOFFSETTO:+0000
END:STANDARD
END:VTIMEZONE
BEGIN:VEVENT
UID:390-34
DTSTAMP:20260422T033424Z
SUMMARY:Elternabend Pfarrei Greifensee-Nänikon-Werrikon
LOCATION:Klairs Saal Bühlstrasse 16  Nänikon  8606
ORGANIZER;CN=Hansruedi Stella:MAILTO:hstella@bluewin.ch
DTSTART;TZID=Etc/GMT-1:20160830T193000
DTEND;TZID=Etc/GMT-1:20160830T220000
X-ALT-DESC;FMTTYPE=TEXT/HTML:<p>Elternabend</p>\n
CATEGORIES:Unti-Saal
URL;VALUE=URI:https://klairs.ch/mc-events/elternabend-pfarrei-greifensee-na
 enikon-werrikon/
METHOD:PUBLISH
END:VEVENT
END:VCALENDAR