BEGIN:VCALENDAR
VERSION:2.0
PRODID:spatie/icalendar-generator
DESCRIPTION:Veranstaltungen von Klairs
X-WR-CALDESC:Veranstaltungen von Klairs
REFRESH-INTERVAL;VALUE=DURATION:PT1440M
X-PUBLISHED-TTL:PT1440M
BEGIN:VTIMEZONE
TZID:Etc/GMT-1
BEGIN:STANDARD
DTSTART:20181229T194500Z
TZOFFSETFROM:+0100
TZOFFSETTO:+0100
END:STANDARD
END:VTIMEZONE
BEGIN:VTIMEZONE
TZID:UTC
BEGIN:STANDARD
DTSTART:20250729T163018Z
TZOFFSETFROM:+0000
TZOFFSETTO:+0000
END:STANDARD
END:VTIMEZONE
BEGIN:VEVENT
UID:3452-309
DTSTAMP:20260425T163018Z
SUMMARY:Chorprobe
LOCATION:
ORGANIZER;CN=Gemischter Chor:MAILTO:wmdenzler@bluewin.ch
RRULE:FREQ=DAILY;INTERVAL=7;COUNT=50
DTSTART;TZID=Etc/GMT-1:20190925T194500
DTEND;TZID=Etc/GMT-1:20190925T220000
X-ALT-DESC;FMTTYPE=TEXT/HTML:
CATEGORIES:Allgemein
URL;VALUE=URI:https://klairs.ch/mc-events/chorprobe-3/?mc_id=3452
METHOD:PUBLISH
END:VEVENT
END:VCALENDAR