BEGIN:VCALENDAR
VERSION:2.0
PRODID:spatie/icalendar-generator
DESCRIPTION:Veranstaltungen von Klairs
X-WR-CALDESC:Veranstaltungen von Klairs
REFRESH-INTERVAL;VALUE=DURATION:PT1440M
X-PUBLISHED-TTL:PT1440M
BEGIN:VTIMEZONE
TZID:Etc/GMT-1
BEGIN:STANDARD
DTSTART:20170815T160000Z
TZOFFSETFROM:+0100
TZOFFSETTO:+0100
END:STANDARD
END:VTIMEZONE
BEGIN:VTIMEZONE
TZID:UTC
BEGIN:STANDARD
DTSTART:20250729T014551Z
TZOFFSETFROM:+0000
TZOFFSETTO:+0000
END:STANDARD
END:VTIMEZONE
BEGIN:VEVENT
UID:3414-286
DTSTAMP:20260425T014551Z
SUMMARY:Live im Klairs Spezial
LOCATION:Klairs ganzes Lokal Bühlstrasse 16  Nänikon  8606
ORGANIZER;CN=Gemeindeverein Nänikon:MAILTO:praesident@naenikon.ch
DTSTART;TZID=Etc/GMT-1:20180512T160000
DTEND;TZID=Etc/GMT-1:20180512T234500
X-ALT-DESC;FMTTYPE=TEXT/HTML:Samstag 12. Mai 2018\,  19 Uhr\, Eintritt Fr.
 30.- Inbegriffen kalte Platte mit Käse und Wurst\, Brot\, Wasser Für Wei
 n\, Kaffee und Kuchen sind die Kässeli auf dem Tisch SÄNGERIN KATHRIN SC
 HLUMPF Stimmungsvolle\, eher ruhige und auch einige fetzige Lieder begleit
 et mit Gitarre\, Harfe und E-Piano
CATEGORIES:Konzert
URL;VALUE=URI:https://klairs.ch/mc-events/live-im-klairs-spezial-2/
METHOD:PUBLISH
END:VEVENT
END:VCALENDAR