BEGIN:VCALENDAR
VERSION:2.0
PRODID:spatie/icalendar-generator
DESCRIPTION:Veranstaltungen von Klairs
X-WR-CALDESC:Veranstaltungen von Klairs
REFRESH-INTERVAL;VALUE=DURATION:PT1440M
X-PUBLISHED-TTL:PT1440M
BEGIN:VTIMEZONE
TZID:Etc/GMT-1
BEGIN:STANDARD
DTSTART:20171124T180000Z
TZOFFSETFROM:+0100
TZOFFSETTO:+0100
END:STANDARD
END:VTIMEZONE
BEGIN:VTIMEZONE
TZID:UTC
BEGIN:STANDARD
DTSTART:20250728T130748Z
TZOFFSETFROM:+0000
TZOFFSETTO:+0000
END:STANDARD
END:VTIMEZONE
BEGIN:VEVENT
UID:3365-307
DTSTAMP:20260424T130748Z
SUMMARY:Konfuntericht Pfarr. Yves L' Eplattenier
LOCATION:Klairs ganzes Lokal Bühlstrasse 16  Nänikon  8606
ORGANIZER;CN=Reformierte Kirche Uster:MAILTO:beatrice.schulte@refuster.ch
RRULE:FREQ=WEEKLY;COUNT=46
DTSTART;TZID=Etc/GMT-1:20180821T180000
DTEND;TZID=Etc/GMT-1:20180821T210000
X-ALT-DESC;FMTTYPE=TEXT/HTML:
CATEGORIES:Unti-Saal
URL;VALUE=URI:https://klairs.ch/mc-events/konfuntericht-pfarr-yves-l-eplatt
 enier-2/?mc_id=3365
METHOD:PUBLISH
END:VEVENT
END:VCALENDAR