BEGIN:VCALENDAR
VERSION:2.0
PRODID:spatie/icalendar-generator
DESCRIPTION:Veranstaltungen von Klairs
X-WR-CALDESC:Veranstaltungen von Klairs
REFRESH-INTERVAL;VALUE=DURATION:PT1440M
X-PUBLISHED-TTL:PT1440M
BEGIN:VTIMEZONE
TZID:Etc/GMT-1
BEGIN:STANDARD
DTSTART:20180130T080000Z
TZOFFSETFROM:+0100
TZOFFSETTO:+0100
END:STANDARD
END:VTIMEZONE
BEGIN:VTIMEZONE
TZID:UTC
BEGIN:STANDARD
DTSTART:20250728T154507Z
TZOFFSETFROM:+0000
TZOFFSETTO:+0000
END:STANDARD
END:VTIMEZONE
BEGIN:VEVENT
UID:3115-250
DTSTAMP:20260424T154507Z
SUMMARY:Kinder- &amp;amp\; Teenie-Kino
LOCATION:Klairs Saal mit Küche   Nänikon
ORGANIZER;CN=Frauenverein Nänikon-Werrikon:MAILTO:frauenverein@naenikon.ch
DTSTART;TZID=Etc/GMT-1:20181027T080000
DTEND;TZID=Etc/GMT-1:20181027T233000
X-ALT-DESC;FMTTYPE=TEXT/HTML:<p>Kinder- &amp;amp\; Teenie-Kino</p>\n
CATEGORIES:Kino
URL;VALUE=URI:https://klairs.ch/mc-events/kinder-teenie-kino/
METHOD:PUBLISH
END:VEVENT
END:VCALENDAR