BEGIN:VCALENDAR
VERSION:2.0
PRODID:spatie/icalendar-generator
DESCRIPTION:Veranstaltungen von Klairs
X-WR-CALDESC:Veranstaltungen von Klairs
REFRESH-INTERVAL;VALUE=DURATION:PT1440M
X-PUBLISHED-TTL:PT1440M
BEGIN:VTIMEZONE
TZID:Etc/GMT-1
BEGIN:STANDARD
DTSTART:20180827T140000Z
TZOFFSETFROM:+0100
TZOFFSETTO:+0100
END:STANDARD
END:VTIMEZONE
BEGIN:VTIMEZONE
TZID:UTC
BEGIN:STANDARD
DTSTART:20250728T183540Z
TZOFFSETFROM:+0000
TZOFFSETTO:+0000
END:STANDARD
END:VTIMEZONE
BEGIN:VEVENT
UID:3073-260
DTSTAMP:20260424T183540Z
SUMMARY:Cool 4N
LOCATION:Klairs ganzes Lokal Bühlstrasse 16  Nänikon  8606
ORGANIZER;CN=Reformierte Kirche Uster:MAILTO:beatrice.schulte@refuster.ch
DTSTART;TZID=Etc/GMT-1:20190524T140000
DTEND;TZID=Etc/GMT-1:20190524T200000
X-ALT-DESC;FMTTYPE=TEXT/HTML:
CATEGORIES:Unti-Saal
URL;VALUE=URI:https://klairs.ch/mc-events/cool-4n-5/
METHOD:PUBLISH
END:VEVENT
END:VCALENDAR