BEGIN:VCALENDAR
VERSION:2.0
PRODID:spatie/icalendar-generator
DESCRIPTION:Veranstaltungen von Klairs
X-WR-CALDESC:Veranstaltungen von Klairs
REFRESH-INTERVAL;VALUE=DURATION:PT1440M
X-PUBLISHED-TTL:PT1440M
BEGIN:VTIMEZONE
TZID:Etc/GMT-1
BEGIN:STANDARD
DTSTART:20171225T173000Z
TZOFFSETFROM:+0100
TZOFFSETTO:+0100
END:STANDARD
END:VTIMEZONE
BEGIN:VTIMEZONE
TZID:UTC
BEGIN:STANDARD
DTSTART:20250728T154454Z
TZOFFSETFROM:+0000
TZOFFSETTO:+0000
END:STANDARD
END:VTIMEZONE
BEGIN:VEVENT
UID:3063-251
DTSTAMP:20260424T154454Z
SUMMARY:FV-Kino
LOCATION:Klairs Saal mit Küche   Nänikon
ORGANIZER;CN=Frauenverein Nänikon-Werrikon:MAILTO:frauenverein@naenikon.ch
DTSTART;TZID=Etc/GMT-1:20180921T173000
DTEND;TZID=Etc/GMT-1:20180921T233000
X-ALT-DESC;FMTTYPE=TEXT/HTML:<p>FV-Kino</p>\n
CATEGORIES:Kino
URL;VALUE=URI:https://klairs.ch/mc-events/fv-kino/
METHOD:PUBLISH
END:VEVENT
END:VCALENDAR