BEGIN:VCALENDAR
VERSION:2.0
PRODID:spatie/icalendar-generator
DESCRIPTION:Veranstaltungen von Klairs
X-WR-CALDESC:Veranstaltungen von Klairs
REFRESH-INTERVAL;VALUE=DURATION:PT1440M
X-PUBLISHED-TTL:PT1440M
BEGIN:VTIMEZONE
TZID:Etc/GMT-1
BEGIN:STANDARD
DTSTART:20170405T190000Z
TZOFFSETFROM:+0100
TZOFFSETTO:+0100
END:STANDARD
END:VTIMEZONE
BEGIN:VTIMEZONE
TZID:UTC
BEGIN:STANDARD
DTSTART:20250725T233433Z
TZOFFSETFROM:+0000
TZOFFSETTO:+0000
END:STANDARD
END:VTIMEZONE
BEGIN:VEVENT
UID:3052-240
DTSTAMP:20260421T233433Z
SUMMARY:Spielnacht mit Uuslüte
LOCATION:
ORGANIZER;CN=Gemeindeverein Nänikon:MAILTO:praesident@naenikon.ch
DTSTART;TZID=Etc/GMT-1:20171231T190000
DTEND;TZID=Etc/GMT-1:20171231T235900
X-ALT-DESC;FMTTYPE=TEXT/HTML:Spielnacht mit Uuslüte mit Anstossen auf Neuj
 ahr beim Türmli
CATEGORIES:Allgemein
URL;VALUE=URI:https://klairs.ch/mc-events/spielnacht-mit-uusluete-2/
METHOD:PUBLISH
END:VEVENT
END:VCALENDAR