BEGIN:VCALENDAR
VERSION:2.0
PRODID:spatie/icalendar-generator
DESCRIPTION:Veranstaltungen von Klairs
X-WR-CALDESC:Veranstaltungen von Klairs
REFRESH-INTERVAL;VALUE=DURATION:PT1440M
X-PUBLISHED-TTL:PT1440M
BEGIN:VTIMEZONE
TZID:Etc/GMT-1
BEGIN:STANDARD
DTSTART:20170413T133000Z
TZOFFSETFROM:+0100
TZOFFSETTO:+0100
END:STANDARD
END:VTIMEZONE
BEGIN:VTIMEZONE
TZID:UTC
BEGIN:STANDARD
DTSTART:20250726T021622Z
TZOFFSETFROM:+0000
TZOFFSETTO:+0000
END:STANDARD
END:VTIMEZONE
BEGIN:VEVENT
UID:2801-237
DTSTAMP:20260422T021622Z
SUMMARY:Kafi im Klairs
LOCATION:Klairs Saal mit Küche   Nänikon
ORGANIZER;CN=Genossenschaft Klairs:MAILTO:kontakt@klairs.ch
RRULE:FREQ=DAILY;BYDAY=MO,TU,WE,TH,FR;COUNT=249
DTSTART;TZID=Etc/GMT-1:20180108T133000
DTEND;TZID=Etc/GMT-1:20180108T173000
X-ALT-DESC;FMTTYPE=TEXT/HTML:
CATEGORIES:Kafi im Klairs
URL;VALUE=URI:https://klairs.ch/mc-events/kafi-im-klairs/?mc_id=2801
METHOD:PUBLISH
END:VEVENT
END:VCALENDAR