BEGIN:VCALENDAR
VERSION:2.0
PRODID:spatie/icalendar-generator
DESCRIPTION:Veranstaltungen von Klairs
X-WR-CALDESC:Veranstaltungen von Klairs
REFRESH-INTERVAL;VALUE=DURATION:PT1440M
X-PUBLISHED-TTL:PT1440M
BEGIN:VTIMEZONE
TZID:Etc/GMT-1
BEGIN:STANDARD
DTSTART:20170205T183000Z
TZOFFSETFROM:+0100
TZOFFSETTO:+0100
END:STANDARD
END:VTIMEZONE
BEGIN:VTIMEZONE
TZID:UTC
BEGIN:STANDARD
DTSTART:20250725T103559Z
TZOFFSETFROM:+0000
TZOFFSETTO:+0000
END:STANDARD
END:VTIMEZONE
BEGIN:VEVENT
UID:1684-214
DTSTAMP:20260421T103559Z
SUMMARY:GV STWEG Fabula
LOCATION:Klairs Saal mit Küche   Nänikon
ORGANIZER;CN=Hansruedi Stella:MAILTO:hstella@bluewin.ch
DTSTART;TZID=Etc/GMT-1:20171102T183000
DTEND;TZID=Etc/GMT-1:20171102T223000
X-ALT-DESC;FMTTYPE=TEXT/HTML:
CATEGORIES:Sitzung
URL;VALUE=URI:https://klairs.ch/mc-events/gv-stweg-fabula/
METHOD:PUBLISH
END:VEVENT
END:VCALENDAR