BEGIN:VCALENDAR
VERSION:2.0
PRODID:spatie/icalendar-generator
DESCRIPTION:Veranstaltungen von Klairs
X-WR-CALDESC:Veranstaltungen von Klairs
REFRESH-INTERVAL;VALUE=DURATION:PT1440M
X-PUBLISHED-TTL:PT1440M
BEGIN:VTIMEZONE
TZID:Etc/GMT-1
BEGIN:STANDARD
DTSTART:20160630T173000Z
TZOFFSETFROM:+0100
TZOFFSETTO:+0100
END:STANDARD
END:VTIMEZONE
BEGIN:VTIMEZONE
TZID:UTC
BEGIN:STANDARD
DTSTART:20250726T080833Z
TZOFFSETFROM:+0000
TZOFFSETTO:+0000
END:STANDARD
END:VTIMEZONE
BEGIN:VEVENT
UID:1595-164
DTSTAMP:20260422T080833Z
SUMMARY:Apéro Helfer Kafi im Klairs
LOCATION:
ORGANIZER;CN=Hansruedi Stella:MAILTO:hstella@bluewin.ch
DTSTART;TZID=Etc/GMT-1:20170327T173000
DTEND;TZID=Etc/GMT-1:20170327T232500
X-ALT-DESC;FMTTYPE=TEXT/HTML:Apéro Helfer Kafi im Klairs
CATEGORIES:Apero
URL;VALUE=URI:https://klairs.ch/mc-events/apero-helfer-kafi-im-klairs/
METHOD:PUBLISH
END:VEVENT
END:VCALENDAR