BEGIN:VCALENDAR
VERSION:2.0
PRODID:spatie/icalendar-generator
DESCRIPTION:Veranstaltungen von Klairs
X-WR-CALDESC:Veranstaltungen von Klairs
REFRESH-INTERVAL;VALUE=DURATION:PT1440M
X-PUBLISHED-TTL:PT1440M
BEGIN:VTIMEZONE
TZID:Etc/GMT-1
BEGIN:STANDARD
DTSTART:20250701T080000Z
TZOFFSETFROM:+0100
TZOFFSETTO:+0100
END:STANDARD
END:VTIMEZONE
BEGIN:VTIMEZONE
TZID:UTC
BEGIN:STANDARD
DTSTART:20250725T165438Z
TZOFFSETFROM:+0000
TZOFFSETTO:+0000
END:STANDARD
END:VTIMEZONE
BEGIN:VEVENT
UID:10897-1017
DTSTAMP:20260421T165438Z
SUMMARY:Palmbaumbinden
LOCATION:Klairs Saal mit Küche   Nänikon
ORGANIZER;CN=Pfarrei Johannes XXIII:MAILTO:kathpfarramt@pfarrei-greifensee.
 ch
DTSTART;TZID=Etc/GMT-1:20260328T080000
DTEND;TZID=Etc/GMT-1:20260328T120000
X-ALT-DESC;FMTTYPE=TEXT/HTML:
CATEGORIES:Allgemein
URL;VALUE=URI:https://klairs.ch/mc-events/palmbaumbinden/
METHOD:PUBLISH
END:VEVENT
END:VCALENDAR