BEGIN:VCALENDAR
VERSION:2.0
PRODID:spatie/icalendar-generator
DESCRIPTION:Veranstaltungen von Klairs
X-WR-CALDESC:Veranstaltungen von Klairs
REFRESH-INTERVAL;VALUE=DURATION:PT1440M
X-PUBLISHED-TTL:PT1440M
BEGIN:VTIMEZONE
TZID:Etc/GMT-1
BEGIN:STANDARD
DTSTART:20240125T190000Z
TZOFFSETFROM:+0100
TZOFFSETTO:+0100
END:STANDARD
END:VTIMEZONE
BEGIN:VTIMEZONE
TZID:UTC
BEGIN:STANDARD
DTSTART:20250729T143355Z
TZOFFSETFROM:+0000
TZOFFSETTO:+0000
END:STANDARD
END:VTIMEZONE
BEGIN:VEVENT
UID:10804-980
DTSTAMP:20260425T143355Z
SUMMARY:Leitersitzung SCN
LOCATION:Klairs Sitzungszimmer   Nänikon
ORGANIZER;CN=Sportclub Naenikon:MAILTO:praesident@scn.ch
DTSTART;TZID=Etc/GMT-1:20241021T190000
DTEND;TZID=Etc/GMT-1:20241021T220000
X-ALT-DESC;FMTTYPE=TEXT/HTML:
CATEGORIES:Sitzung
URL;VALUE=URI:https://klairs.ch/mc-events/leitersitzung-scn-13/
METHOD:PUBLISH
END:VEVENT
END:VCALENDAR