BEGIN:VCALENDAR
VERSION:2.0
PRODID:spatie/icalendar-generator
DESCRIPTION:Veranstaltungen von Klairs
X-WR-CALDESC:Veranstaltungen von Klairs
REFRESH-INTERVAL;VALUE=DURATION:PT1440M
X-PUBLISHED-TTL:PT1440M
BEGIN:VTIMEZONE
TZID:Etc/GMT-1
BEGIN:STANDARD
DTSTART:20240104T180000Z
TZOFFSETFROM:+0100
TZOFFSETTO:+0100
END:STANDARD
END:VTIMEZONE
BEGIN:VTIMEZONE
TZID:UTC
BEGIN:STANDARD
DTSTART:20250728T160748Z
TZOFFSETFROM:+0000
TZOFFSETTO:+0000
END:STANDARD
END:VTIMEZONE
BEGIN:VEVENT
UID:10679-774
DTSTAMP:20260424T160748Z
SUMMARY:STWEG Stationsstrasse 35
LOCATION:Klairs Saal Bühlstrasse 16  Nänikon  8606
ORGANIZER;CN=Genossenschaft Klairs:MAILTO:kontakt@klairs.ch
DTSTART;TZID=Etc/GMT-1:20240930T180000
DTEND;TZID=Etc/GMT-1:20240930T220000
X-ALT-DESC;FMTTYPE=TEXT/HTML:
CATEGORIES:Sitzung
URL;VALUE=URI:https://klairs.ch/mc-events/stweg-stationsstrasse-35-3/
METHOD:PUBLISH
END:VEVENT
END:VCALENDAR