BEGIN:VCALENDAR
VERSION:2.0
PRODID:spatie/icalendar-generator
DESCRIPTION:Veranstaltungen von Klairs
X-WR-CALDESC:Veranstaltungen von Klairs
REFRESH-INTERVAL;VALUE=DURATION:PT1440M
X-PUBLISHED-TTL:PT1440M
BEGIN:VTIMEZONE
TZID:Etc/GMT-1
BEGIN:STANDARD
DTSTART:20240607T173000Z
TZOFFSETFROM:+0100
TZOFFSETTO:+0100
END:STANDARD
END:VTIMEZONE
BEGIN:VTIMEZONE
TZID:UTC
BEGIN:STANDARD
DTSTART:20250723T155622Z
TZOFFSETFROM:+0000
TZOFFSETTO:+0000
END:STANDARD
END:VTIMEZONE
BEGIN:VEVENT
UID:10640-654
DTSTAMP:20260419T155622Z
SUMMARY:STWEG Bluetmattstrasse 1+3\, Nänikon
LOCATION:Klairs Saal mit Küche   Nänikon
ORGANIZER;CN=Genossenschaft Klairs:MAILTO:kontakt@klairs.ch
DTSTART;TZID=Etc/GMT-1:20250304T173000
DTEND;TZID=Etc/GMT-1:20250304T213000
X-ALT-DESC;FMTTYPE=TEXT/HTML:
CATEGORIES:Sitzung
URL;VALUE=URI:https://klairs.ch/mc-events/stweg-bluetmattstrasse-13-naeniko
 n/
METHOD:PUBLISH
END:VEVENT
END:VCALENDAR