BEGIN:VCALENDAR
VERSION:2.0
PRODID:spatie/icalendar-generator
DESCRIPTION:Veranstaltungen von Klairs
X-WR-CALDESC:Veranstaltungen von Klairs
REFRESH-INTERVAL;VALUE=DURATION:PT1440M
X-PUBLISHED-TTL:PT1440M
BEGIN:VTIMEZONE
TZID:Etc/GMT-1
BEGIN:STANDARD
DTSTART:20230817T183000Z
TZOFFSETFROM:+0100
TZOFFSETTO:+0100
END:STANDARD
END:VTIMEZONE
BEGIN:VTIMEZONE
TZID:UTC
BEGIN:STANDARD
DTSTART:20250726T040336Z
TZOFFSETFROM:+0000
TZOFFSETTO:+0000
END:STANDARD
END:VTIMEZONE
BEGIN:VEVENT
UID:10262-889
DTSTAMP:20260422T040336Z
SUMMARY:GVN: Vorstandssitzung
LOCATION:Klairs Saal Bühlstrasse 16  Nänikon  8606
ORGANIZER;CN=Gemeindeverein Nänikon:MAILTO:praesident@naenikon.ch
DTSTART;TZID=Etc/GMT-1:20240513T183000
DTEND;TZID=Etc/GMT-1:20240513T203000
X-ALT-DESC;FMTTYPE=TEXT/HTML:
CATEGORIES:
URL;VALUE=URI:https://klairs.ch/mc-events/gvn-vorstandssitzung-10/
METHOD:PUBLISH
END:VEVENT
END:VCALENDAR